BEGIN:VCALENDAR
PRODID:-//kirchenweb.ch gmbh//veranstaltungsausgabe v2.0//DE
VERSION:2.0
METHOD:PUBLISH
BEGIN:VEVENT
DTSTART:20260427T080000Z
DTEND:20260427T143000Z
LOCATION:Treffpunkt Pfrundscheune\, Kirchgasse 10\, 3267 Seedorf
TRANSP:OPAQUE
SEQUENCE:0
UID:84580-veranstaltung@kirchenregion-aarberg.ch
DTSTAMP:20260317T095051Z
DESCRIPTION:Miteinander werden wir durch spannende Landschaften und Orte
  chauffiert. Lassen Sie sich überraschen.\n\nWir dürfen uns zum
  Mittagessen an einen gedeckten Tisch setzen und haben immer wieder viel
  Zeit\, miteinander zu plaudern\, einander zu erzählen und uns zu freuen.
  Es ist möglich\, den Rollator mitzunehmen.\n\nDie Kosten betragen 50.00
  pro Person\, wird im Car eingezogen.\nDie Getränke werden selber
  bezahlt.\n\nAuf eine zufriedene Fahrt freuen sich Madeleine Spring\,
  Monica Seiler und Hanni Schlatter und Heidi Lüthi\n
 \nRückfragen/Anmeldung bei: Heidi Lüthi\, 079 512 13 01
 \nhttps://www.kirchenregion-aarberg.ch/dok/22256\n\nKontakt: Heidi Lüthi
  Kirchgemeindepräsidentin\n\nWeitere Infos:
  https://www.kirchenregion-aarberg.ch/veranstaltung/84580
SUMMARY:Alleinstehenden Nachmittag Reise Fahrt ins Blaue
PRIORITY:5
X-MICROSOFT-CDO-IMPORTANCE:1
CLASS:PUBLIC
END:VEVENT
END:VCALENDAR
