BEGIN:VCALENDAR
PRODID:-//kirchenweb.ch gmbh//veranstaltungsausgabe v2.0//DE
VERSION:2.0
METHOD:PUBLISH
BEGIN:VEVENT
DTSTART:20260919T113000Z
DTEND:20260919T123000Z
LOCATION:Reformierte Kirche Seedorf\, Kirchgasse 12\, 3267 Seedorf
TRANSP:OPAQUE
SEQUENCE:0
UID:88656-veranstaltung@kirchenregion-aarberg.ch
DTSTAMP:20251215T140350Z
DESCRIPTION:Kontakt: tanja.fahrni@kirche-seedorf.ch\n\nWeitere Infos:
  https://www.kirchenregion-aarberg.ch/veranstaltung/88656
SUMMARY:Trauung
PRIORITY:5
X-MICROSOFT-CDO-IMPORTANCE:1
CLASS:PUBLIC
END:VEVENT
END:VCALENDAR
