BEGIN:VCALENDAR
PRODID:-//kirchenweb.ch gmbh//veranstaltungsausgabe v2.0//DE
VERSION:2.0
METHOD:PUBLISH
BEGIN:VEVENT
DTSTART:20260405T080000Z
DTEND:20260405T090000Z
LOCATION:Frienisberg\, Klostersaal\, Bernstrasse 137\, 3267 Seedorf
TRANSP:OPAQUE
SEQUENCE:0
UID:88719-veranstaltung@kirchenregion-aarberg.ch
DTSTAMP:20260317T091236Z
DESCRIPTION:Mit Pfarrerin Salome Graber.\nMusikalische Gestaltung: Barbara
  Baumgartner\, Blockflöte und Susanne Hügli\, Klavier\n\nKontakt:
  Pfarrerin Salome Graber\n\nWeitere Infos:
  https://www.kirchenregion-aarberg.ch/veranstaltung/88719
SUMMARY:Ostergottesdienst mit Abendmahl im Frienisberg-üses Dorf
PRIORITY:5
X-MICROSOFT-CDO-IMPORTANCE:1
CLASS:PUBLIC
END:VEVENT
END:VCALENDAR
