BEGIN:VCALENDAR
PRODID:-//kirchenweb.ch gmbh//veranstaltungsausgabe v2.0//DE
VERSION:2.0
METHOD:PUBLISH
BEGIN:VEVENT
DTSTART:20260419T080000Z
DTEND:20260419T090000Z
LOCATION:Kirche\, Seedorf\, Kirchgasse 12\, 3267 Seedorf
TRANSP:OPAQUE
SEQUENCE:0
UID:88721-veranstaltung@kirchenregion-aarberg.ch
DTSTAMP:20260317T091444Z
DESCRIPTION:Pfarrerin Verena Schlatter und ein Vorbereitungsteam. 
 \nMusikalische Gestaltung: Andreas Scheuner\, Orgel.\n\nKontakt: Pfrn.
  Verena Schlatter\n\nWeitere Infos:
  https://www.kirchenregion-aarberg.ch/veranstaltung/88721
SUMMARY:Segnungs-Gottesdienst
PRIORITY:5
X-MICROSOFT-CDO-IMPORTANCE:1
CLASS:PUBLIC
END:VEVENT
END:VCALENDAR
