BEGIN:VCALENDAR
PRODID:-//kirchenweb.ch gmbh//veranstaltungsausgabe v2.0//DE
VERSION:2.0
METHOD:PUBLISH
BEGIN:VEVENT
DTSTART:20260426T170000Z
DTEND:20260426T180000Z
LOCATION:Frieswil\, Dorfhaus\, \,
TRANSP:OPAQUE
SEQUENCE:0
UID:88722-veranstaltung@kirchenregion-aarberg.ch
DTSTAMP:20251216T094357Z
DESCRIPTION:Mit Pfarrerin Verena Schlatter.\nMusikalische Gestaltung:
  Andreas Scheuner\, Klavier.\n\nKontakt: Pfrn. Verena Schlatter\n\nWeitere
  Infos: https://www.kirchenregion-aarberg.ch/veranstaltung/88722
SUMMARY:Abend-Gottesdienst im Dorfhaus Frieswil
PRIORITY:5
X-MICROSOFT-CDO-IMPORTANCE:1
CLASS:PUBLIC
END:VEVENT
END:VCALENDAR
