BEGIN:VCALENDAR
PRODID:-//kirchenweb.ch gmbh//veranstaltungsausgabe v2.0//DE
VERSION:2.0
METHOD:PUBLISH
BEGIN:VEVENT
DTSTART:20260524T080000Z
DTEND:20260524T090000Z
LOCATION:Kirche\, Seedorf\, Kirchgasse 12\, 3267 Seedorf
TRANSP:OPAQUE
SEQUENCE:0
UID:88727-veranstaltung@kirchenregion-aarberg.ch
DTSTAMP:20251216T124700Z
DESCRIPTION:Mit Pfarrerin Verena Schlatter.\nMusikalische Gestaltung:
  Louisa Steiner\, Violine und Susanne Hügli\, Orgel.\n\nKontakt: Pfrn.
  Verena Schlatter\n\nWeitere Infos:
  https://www.kirchenregion-aarberg.ch/veranstaltung/88727
SUMMARY:Gottesdienst zu Pfingsten mit Abendmahl
PRIORITY:5
X-MICROSOFT-CDO-IMPORTANCE:1
CLASS:PUBLIC
END:VEVENT
END:VCALENDAR
