BEGIN:VCALENDAR
PRODID:-//kirchenweb.ch gmbh//veranstaltungsausgabe v2.0//DE
VERSION:2.0
METHOD:PUBLISH
BEGIN:VEVENT
DTSTART:20260531T080000Z
DTEND:20260531T090000Z
LOCATION:Seedorf\, Kirche\, Kirchgasse 12\, 3267 Seedorf
TRANSP:OPAQUE
SEQUENCE:0
UID:88728-veranstaltung@kirchenregion-aarberg.ch
DTSTAMP:20251216T095712Z
DESCRIPTION:Mit Pfarrer Michael Siegrist.\nMusikalische Gestaltung:
  Andreas Scheuner\, Orgel.\n\n\nKontakt: Pfr. Michael Siegrist\n\nWeitere
  Infos: https://www.kirchenregion-aarberg.ch/veranstaltung/88728
SUMMARY:Gottesdienst mit Taufe von Livio Roth
PRIORITY:5
X-MICROSOFT-CDO-IMPORTANCE:1
CLASS:PUBLIC
END:VEVENT
END:VCALENDAR
