BEGIN:VCALENDAR
PRODID:-//kirchenweb.ch gmbh//veranstaltungsausgabe v2.0//DE
VERSION:2.0
METHOD:PUBLISH
BEGIN:VEVENT
DTSTART:20260621T080000Z
DTEND:20260621T090000Z
LOCATION:Kirche\, Seedorf\, Kirchgasse 12\, 3267 Seedorf
TRANSP:OPAQUE
SEQUENCE:0
UID:88732-veranstaltung@kirchenregion-aarberg.ch
DTSTAMP:20251216T100344Z
DESCRIPTION:Pfarrer Michael Siegrist.\nMusikalische Gestaltung: Susanne
  Hügli\, Orgel\n\n\nKontakt: Pfarrer Michael Siegrist\n\nWeitere Infos:
  https://www.kirchenregion-aarberg.ch/veranstaltung/88732
SUMMARY:Gottesdienst mit Taufe von Thierry Andres\, Luana und Nayara
  Wittwer
PRIORITY:5
X-MICROSOFT-CDO-IMPORTANCE:1
CLASS:PUBLIC
END:VEVENT
END:VCALENDAR
