BEGIN:VCALENDAR
PRODID:-//kirchenweb.ch gmbh//veranstaltungsausgabe v2.0//DE
VERSION:2.0
METHOD:PUBLISH
BEGIN:VEVENT
DTSTART:20260628T090000Z
DTEND:20260628T100000Z
LOCATION:Reformierte Kirche Seedorf\, Kirchgasse 12\, 3267 Seedorf
TRANSP:OPAQUE
SEQUENCE:0
UID:88734-veranstaltung@kirchenregion-aarberg.ch
DTSTAMP:20251216T100913Z
DESCRIPTION:Die Kirchgemeindeversammlung findet in der Kirche statt. \nSie
  beginnt im Anschluss an den Gottesdienst um ca. 11.00 Uhr.\nAlle
  kirchlich Stimmberechtigten ab 18 Jahren\, die in der Gemeinde Seedorf
  wohnhaft und Mitglied der evangelisch-reformierten Kirche sind\, sind zur
  Versammlung herzlich eingeladen. \n\nWeitere Informationen hier\n
 \nKontakt: Heidi Lüthi Kirchgemeindepräsidentin\n\nWeitere Infos:
  https://www.kirchenregion-aarberg.ch/veranstaltung/88734
SUMMARY:Kirchgemeindeversammlung
PRIORITY:5
X-MICROSOFT-CDO-IMPORTANCE:1
CLASS:PUBLIC
END:VEVENT
END:VCALENDAR
