BEGIN:VCALENDAR
PRODID:-//kirchenweb.ch gmbh//veranstaltungsausgabe v2.0//DE
VERSION:2.0
METHOD:PUBLISH
BEGIN:VEVENT
DTSTART:20260705T160000Z
DTEND:20260705T170000Z
LOCATION:Reformierte Kirche Seedorf\, Kirchgasse 12\, 3267 Seedorf
TRANSP:OPAQUE
SEQUENCE:0
UID:88737-veranstaltung@kirchenregion-aarberg.ch
DTSTAMP:20251216T102325Z
DESCRIPTION:Kontakt: Heidi Lüthi Kirchgemeindepräsidentin\n\nWeitere
  Infos: https://www.kirchenregion-aarberg.ch/veranstaltung/88737
SUMMARY:Kirchenplatzfest
PRIORITY:5
X-MICROSOFT-CDO-IMPORTANCE:1
CLASS:PUBLIC
END:VEVENT
END:VCALENDAR
