BEGIN:VCALENDAR
PRODID:-//kirchenweb.ch gmbh//veranstaltungsausgabe v2.0//DE
VERSION:2.0
METHOD:PUBLISH
BEGIN:VEVENT
DTSTART:20260712T080000Z
DTEND:20260712T090000Z
LOCATION:Frienisberg\, Klostersaal\, Bernstrasse 137\, 3267 Seedorf
TRANSP:OPAQUE
SEQUENCE:0
UID:88739-veranstaltung@kirchenregion-aarberg.ch
DTSTAMP:20251216T102436Z
DESCRIPTION:Mit Pfarrerin Verena Schlatter\nMusikalische Gestaltung:
  Andreas Scheuner\, Klavier\n\nKontakt: Pfrn. Verena Schlatter\n\nWeitere
  Infos: https://www.kirchenregion-aarberg.ch/veranstaltung/88739
SUMMARY:Gottesdienst im Frienisberg-üses Dorf
PRIORITY:5
X-MICROSOFT-CDO-IMPORTANCE:1
CLASS:PUBLIC
END:VEVENT
END:VCALENDAR
