BEGIN:VCALENDAR
PRODID:-//kirchenweb.ch gmbh//veranstaltungsausgabe v2.0//DE
VERSION:2.0
METHOD:PUBLISH
BEGIN:VEVENT
DTSTART:20260726T170000Z
DTEND:20260726T180000Z
LOCATION:Frieswil\, Dorfhaus\, \,
TRANSP:OPAQUE
SEQUENCE:0
UID:88741-veranstaltung@kirchenregion-aarberg.ch
DTSTAMP:20251216T102849Z
DESCRIPTION:Mit Pfarrer Michael Siegrist\nMusikalische Gestaltung: Andreas
  Scheuner\, Klavier.\n\nKontakt: Pfr. Michael Siegrist\n\nWeitere Infos:
  https://www.kirchenregion-aarberg.ch/veranstaltung/88741
SUMMARY:Abend-Gottesdienst im Dorfhaus Frieswil
PRIORITY:5
X-MICROSOFT-CDO-IMPORTANCE:1
CLASS:PUBLIC
END:VEVENT
END:VCALENDAR
