BEGIN:VCALENDAR
PRODID:-//kirchenweb.ch gmbh//veranstaltungsausgabe v2.0//DE
VERSION:2.0
METHOD:PUBLISH
BEGIN:VEVENT
DTSTART:20260816T080000Z
DTEND:20260816T090000Z
LOCATION:Burgerwaldhaus Seedorf\, Rudolfweg 2\, 3267 Seedorf
TRANSP:OPAQUE
SEQUENCE:0
UID:88744-veranstaltung@kirchenregion-aarberg.ch
DTSTAMP:20251216T103620Z
DESCRIPTION:Mit Pfarrerin Verena Schlatter\nMusikalische Gestaltung:
  Andreas Scheuner\, Klavier. \nHütedienst für Kinder von 0 bis 8 Jahren.
  Nach dem Gottesdienst ist Bräteln und gemütliches Beisammensein
  angesagt. Fleisch\, Getränke und Brot können vor Ort bei Herrn
  Schaufelberger gekauft werden. Bei schlechtem Wetter findet der
  Gottesdienst ohne anschliessendes Bräteln in der Kirche statt. Wir
  freuen uns auf Sie.\n\n\nKontakt: Pfrn. Verena Schlatter\n\nWeitere
  Infos: https://www.kirchenregion-aarberg.ch/veranstaltung/88744
SUMMARY:Waldgottesdienst für Chly und Gross beim Burgerwaldhaus
PRIORITY:5
X-MICROSOFT-CDO-IMPORTANCE:1
CLASS:PUBLIC
END:VEVENT
END:VCALENDAR
