BEGIN:VCALENDAR
PRODID:-//kirchenweb.ch gmbh//veranstaltungsausgabe v2.0//DE
VERSION:2.0
METHOD:PUBLISH
BEGIN:VEVENT
DTSTART:20260905T153000Z
DTEND:20260905T163000Z
LOCATION:Kirche\, Seedorf\, Kirchgasse 12\, 3267 Seedorf
TRANSP:OPAQUE
SEQUENCE:0
UID:88747-veranstaltung@kirchenregion-aarberg.ch
DTSTAMP:20251216T104309Z
DESCRIPTION:Mit Pfarrer Michael Siegrist.\nMusikalische Gestaltung:
  Andreas Scheuner\, Orgel\n\n\nKontakt: Pfarrer Michael Siegrist\n
 \nWeitere Infos: https://www.kirchenregion-aarberg.ch/veranstaltung/88747
SUMMARY:Familien-Gottesdienst mit Abendessen
PRIORITY:5
X-MICROSOFT-CDO-IMPORTANCE:1
CLASS:PUBLIC
END:VEVENT
END:VCALENDAR
