BEGIN:VCALENDAR
PRODID:-//kirchenweb.ch gmbh//veranstaltungsausgabe v2.0//DE
VERSION:2.0
METHOD:PUBLISH
BEGIN:VEVENT
DTSTART:20261003T153000Z
DTEND:20261003T163000Z
LOCATION:Reformierte Kirche Seedorf\, Kirchgasse 12\, 3267 Seedorf
TRANSP:OPAQUE
SEQUENCE:0
UID:88751-veranstaltung@kirchenregion-aarberg.ch
DTSTAMP:20251216T123545Z
DESCRIPTION:Heinz Zenger und ein Team begleiten durch den Gottesdienst.
 \nMusikalische Gestaltung: Andreas Scheuner\, Orgel\n\n\nKontakt: Heinz
  Zenger Kirchgemeinderat\n\nWeitere Infos:
  https://www.kirchenregion-aarberg.ch/veranstaltung/88751
SUMMARY:Taizé-Gottesdienst
PRIORITY:5
X-MICROSOFT-CDO-IMPORTANCE:1
CLASS:PUBLIC
END:VEVENT
END:VCALENDAR
