BEGIN:VCALENDAR
PRODID:-//kirchenweb.ch gmbh//veranstaltungsausgabe v2.0//DE
VERSION:2.0
METHOD:PUBLISH
BEGIN:VEVENT
DTSTART:20261011T080000Z
DTEND:20261011T090000Z
LOCATION:Frienisberg\, Klostersaal\, Bernstrasse 137\, 3267 Seedorf
TRANSP:OPAQUE
SEQUENCE:0
UID:88752-veranstaltung@kirchenregion-aarberg.ch
DTSTAMP:20251216T105925Z
DESCRIPTION:Mit Pfarrer Michael Siegrist.\nMusikalische Gestaltung:
  Andreas Scheuner\, Klavier\n\nKontakt: Pfr. Michael Siegrist\n\nWeitere
  Infos: https://www.kirchenregion-aarberg.ch/veranstaltung/88752
SUMMARY:Gottesdienst im Frienisberg-üses Dorf
PRIORITY:5
X-MICROSOFT-CDO-IMPORTANCE:1
CLASS:PUBLIC
END:VEVENT
END:VCALENDAR
