BEGIN:VCALENDAR
PRODID:-//kirchenweb.ch gmbh//veranstaltungsausgabe v2.0//DE
VERSION:2.0
METHOD:PUBLISH
BEGIN:VEVENT
DTSTART:20261018T080000Z
DTEND:20261018T090000Z
LOCATION:Kirche\, Seedorf\, Kirchgasse 12\, 3267 Seedorf
TRANSP:OPAQUE
SEQUENCE:0
UID:88753-veranstaltung@kirchenregion-aarberg.ch
DTSTAMP:20251216T110142Z
DESCRIPTION:Mit Pfarrer Michael Siegrist.\nDer Gottesdienst wird
  mitgestaltet von Frauen des Landfrauenvereins Seedorf.\nMusikalische
  Gestaltung: Susanne Hügli\, Orgel.\nAnschliessend sind alle herzlich zum
  Kirchenkaffee eingeladen.\n\n\n\nKontakt: Pfarrer Michael Siegrist\n
 \nWeitere Infos: https://www.kirchenregion-aarberg.ch/veranstaltung/88753
SUMMARY:Erntedank Gottesdienst mit Abendmahl
PRIORITY:5
X-MICROSOFT-CDO-IMPORTANCE:1
CLASS:PUBLIC
END:VEVENT
END:VCALENDAR
