BEGIN:VCALENDAR
PRODID:-//kirchenweb.ch gmbh//veranstaltungsausgabe v2.0//DE
VERSION:2.0
METHOD:PUBLISH
BEGIN:VEVENT
DTSTART:20261025T090000Z
DTEND:20261025T100000Z
LOCATION:Kirche\, Seedorf\, Kirchgasse 12\, 3267 Seedorf
TRANSP:OPAQUE
SEQUENCE:0
UID:88754-veranstaltung@kirchenregion-aarberg.ch
DTSTAMP:20251216T110331Z
DESCRIPTION:Mit Pfarrerin Verena Schlatter und Martin Hagi\, Lektor.
 \nMusikalische Gestaltung: Susanne Hügli\, Orgel\n\nKontakt: Pfrn. Verena
  Schlatter\n\nWeitere Infos:
  https://www.kirchenregion-aarberg.ch/veranstaltung/88754
SUMMARY:Gottesdienst
PRIORITY:5
X-MICROSOFT-CDO-IMPORTANCE:1
CLASS:PUBLIC
END:VEVENT
END:VCALENDAR
