BEGIN:VCALENDAR
PRODID:-//kirchenweb.ch gmbh//veranstaltungsausgabe v2.0//DE
VERSION:2.0
METHOD:PUBLISH
BEGIN:VEVENT
DTSTART:20261031T163000Z
DTEND:20261031T173000Z
LOCATION:Kirche\, Seedorf\, Kirchgasse 12\, 3267 Seedorf
TRANSP:OPAQUE
SEQUENCE:0
UID:88755-veranstaltung@kirchenregion-aarberg.ch
DTSTAMP:20251216T110615Z
DESCRIPTION:Mit Pfarrerin Verena Schlatter.\nMusikalische Gestaltung:
  Andreas Scheuner\, Orgel\n\n\nKontakt: Pfrn. Verena Schlatter\n\nWeitere
  Infos: https://www.kirchenregion-aarberg.ch/veranstaltung/88755
SUMMARY:Gottesdienst zum Reformationsfest mit Abendmahl
PRIORITY:5
X-MICROSOFT-CDO-IMPORTANCE:1
CLASS:PUBLIC
END:VEVENT
END:VCALENDAR
