BEGIN:VCALENDAR
PRODID:-//kirchenweb.ch gmbh//veranstaltungsausgabe v2.0//DE
VERSION:2.0
METHOD:PUBLISH
BEGIN:VEVENT
DTSTART:20261115T090000Z
DTEND:20261115T100000Z
LOCATION:Kirche\, Seedorf\, Kirchgasse 12\, 3267 Seedorf
TRANSP:OPAQUE
SEQUENCE:0
UID:88757-veranstaltung@kirchenregion-aarberg.ch
DTSTAMP:20251216T110805Z
DESCRIPTION:Mit Pfarrer Michael Siegrist.\nMusikalische Gestaltung:
  Andreas Scheuner\, Orgel\n\nKontakt: Pfarrer Michael Siegrist\nPfr.
  Michael Siegrist\n\nWeitere Infos:
  https://www.kirchenregion-aarberg.ch/veranstaltung/88757
SUMMARY:Gottesdienst
PRIORITY:5
X-MICROSOFT-CDO-IMPORTANCE:1
CLASS:PUBLIC
END:VEVENT
END:VCALENDAR
