BEGIN:VCALENDAR
PRODID:-//kirchenweb.ch gmbh//veranstaltungsausgabe v2.0//DE
VERSION:2.0
METHOD:PUBLISH
BEGIN:VEVENT
DTSTART:20261122T090000Z
DTEND:20261122T100000Z
LOCATION:Kirche\, Seedorf\, Kirchgasse 12\, 3267 Seedorf
TRANSP:OPAQUE
SEQUENCE:0
UID:88758-veranstaltung@kirchenregion-aarberg.ch
DTSTAMP:20251216T111045Z
DESCRIPTION:Mit Pfarrer Michael Siegrist.\nMusikalische Gestaltung:
  Kirchenchor Seedorf unter der Leitung von Kathrin Steiner\, und Susanne
  Hügli\, Orgel\n\n\nKontakt: Pfr. Michael Siegrist\n\nWeitere Infos:
  https://www.kirchenregion-aarberg.ch/veranstaltung/88758
SUMMARY:Gottesdienst zum Ewigkeitssonntag
PRIORITY:5
X-MICROSOFT-CDO-IMPORTANCE:1
CLASS:PUBLIC
END:VEVENT
END:VCALENDAR
