BEGIN:VCALENDAR
PRODID:-//kirchenweb.ch gmbh//veranstaltungsausgabe v2.0//DE
VERSION:2.0
METHOD:PUBLISH
BEGIN:VEVENT
DTSTART:20261129T090000Z
DTEND:20261129T100000Z
LOCATION:Kirche\, Seedorf\, Kirchgasse 12\, 3267 Seedorf
TRANSP:OPAQUE
SEQUENCE:0
UID:88759-veranstaltung@kirchenregion-aarberg.ch
DTSTAMP:20251216T111410Z
DESCRIPTION:Mit Pfarrerin Verena Schlatter.\nMusikalische Gestaltung:
  Susanne Hügli\, Orgel\nAnschliessend findet die ordentliche
  Kirchgemeindeversammlung statt\n\nKontakt: Pfrn. Verena Schlatter\n
 \nWeitere Infos: https://www.kirchenregion-aarberg.ch/veranstaltung/88759
SUMMARY:Gottesdienst zum 1. Advent
PRIORITY:5
X-MICROSOFT-CDO-IMPORTANCE:1
CLASS:PUBLIC
END:VEVENT
END:VCALENDAR
