BEGIN:VCALENDAR
PRODID:-//kirchenweb.ch gmbh//veranstaltungsausgabe v2.0//DE
VERSION:2.0
METHOD:PUBLISH
BEGIN:VEVENT
DTSTART:20261213T090000Z
DTEND:20261213T100000Z
LOCATION:Frienisberg\, Klostersaal\, Bernstrasse 137\, 3267 Seedorf
TRANSP:OPAQUE
SEQUENCE:0
UID:88761-veranstaltung@kirchenregion-aarberg.ch
DTSTAMP:20251216T123708Z
DESCRIPTION:Mit Pfarrerin Salome Graber.\nMusikalische Gestaltung: Daniela
  Laubscher\, Querflöte und Susanne Hügli\, Klavier\n\nKontakt: Pfarrerin
  Salome Graber\n\nWeitere Infos:
  https://www.kirchenregion-aarberg.ch/veranstaltung/88761
SUMMARY:Gottesdienst im Frienisberg-üses Dorf
PRIORITY:5
X-MICROSOFT-CDO-IMPORTANCE:1
CLASS:PUBLIC
END:VEVENT
END:VCALENDAR
