BEGIN:VCALENDAR
PRODID:-//kirchenweb.ch gmbh//veranstaltungsausgabe v2.0//DE
VERSION:2.0
METHOD:PUBLISH
BEGIN:VEVENT
DTSTART:20261220T090000Z
DTEND:20261220T100000Z
LOCATION:Kirche\, Seedorf\, Kirchgasse 12\, 3267 Seedorf
TRANSP:OPAQUE
SEQUENCE:0
UID:88762-veranstaltung@kirchenregion-aarberg.ch
DTSTAMP:20251216T123822Z
DESCRIPTION:Mit Pfarrerin Verena Schlatter\nMusikalische Gestaltung:
  Kirchenchor Seedorf unter der Leitung von Kathrin Steiner\, und Susanne
  Hügli\, Orgel\n\n\nKontakt: Pfrn. Verena Schlatter\n\nWeitere Infos:
  https://www.kirchenregion-aarberg.ch/veranstaltung/88762
SUMMARY:Gottesdienst zum 4. Advent
PRIORITY:5
X-MICROSOFT-CDO-IMPORTANCE:1
CLASS:PUBLIC
END:VEVENT
END:VCALENDAR
