BEGIN:VCALENDAR
PRODID:-//kirchenweb.ch gmbh//veranstaltungsausgabe v2.0//DE
VERSION:2.0
METHOD:PUBLISH
BEGIN:VEVENT
DTSTART:20261225T090000Z
DTEND:20261225T100000Z
LOCATION:Kirche\, Seedorf\, Kirchgasse 12\, 3267 Seedorf
TRANSP:OPAQUE
SEQUENCE:0
UID:88764-veranstaltung@kirchenregion-aarberg.ch
DTSTAMP:20251216T124251Z
DESCRIPTION:Mit Pfarrerin Verena Schlatter.\nMusikalische Gestaltung:
  Daniela Laubscher\, Querflöte und Susanne Hügli\, Orgel\n\n\nKontakt:
  Pfrn. Verena Schlatter\n\nWeitere Infos:
  https://www.kirchenregion-aarberg.ch/veranstaltung/88764
SUMMARY:Weihnachts-Gottesdienst mit Abendmahl
PRIORITY:5
X-MICROSOFT-CDO-IMPORTANCE:1
CLASS:PUBLIC
END:VEVENT
END:VCALENDAR
