BEGIN:VCALENDAR
PRODID:-//kirchenweb.ch gmbh//veranstaltungsausgabe v2.0//DE
VERSION:2.0
METHOD:PUBLISH
BEGIN:VEVENT
DTSTART:20261231T163000Z
DTEND:20261231T173000Z
LOCATION:Kirche\, Seedorf\, Kirchgasse 12\, 3267 Seedorf
TRANSP:OPAQUE
SEQUENCE:0
UID:88765-veranstaltung@kirchenregion-aarberg.ch
DTSTAMP:20251216T124500Z
DESCRIPTION:Mit Pfarrer Michael Siegrist.\nMusikalische Gestaltung:
  Andreas Scheuner\, Orgel.\nAnschliessend anstossen in der Kirche\n
 \nKontakt: Pfarrer Michael Siegrist\n\nWeitere Infos:
  https://www.kirchenregion-aarberg.ch/veranstaltung/88765
SUMMARY:Abendgottesdienst zum Silvester
PRIORITY:5
X-MICROSOFT-CDO-IMPORTANCE:1
CLASS:PUBLIC
END:VEVENT
END:VCALENDAR
