BEGIN:VCALENDAR
PRODID:-//kirchenweb.ch gmbh//veranstaltungsausgabe v2.0//DE
VERSION:2.0
METHOD:PUBLISH
BEGIN:VEVENT
DTSTART:20260428T173000Z
DTEND:20260428T200000Z
LOCATION:Pfrundscheune Seedorf\, Kirchgasse 10\, 3267 Seedorf
TRANSP:OPAQUE
SEQUENCE:0
UID:90960-veranstaltung@kirchenregion-aarberg.ch
DTSTAMP:20260317T094313Z
DESCRIPTION:Gesprächsrunde über Gott und die Welt. Mit Alfred Schlatter.
 \n\nKontakt: Pfrn. Verena Schlatter\n\nWeitere Infos:
  https://www.kirchenregion-aarberg.ch/veranstaltung/90960
SUMMARY:Männerpalaver
PRIORITY:5
X-MICROSOFT-CDO-IMPORTANCE:1
CLASS:PUBLIC
END:VEVENT
END:VCALENDAR
